BEGIN:VCALENDAR
VERSION:2.0
PRODID:-//AAHA VA! - ECPv6.15.20//NONSGML v1.0//EN
CALSCALE:GREGORIAN
METHOD:PUBLISH
X-WR-CALNAME:AAHA VA!
X-ORIGINAL-URL:https://www.aahava.com
X-WR-CALDESC:Events for AAHA VA!
REFRESH-INTERVAL;VALUE=DURATION:PT1H
X-Robots-Tag:noindex
X-PUBLISHED-TTL:PT1H
BEGIN:VTIMEZONE
TZID:America/New_York
BEGIN:DAYLIGHT
TZOFFSETFROM:-0500
TZOFFSETTO:-0400
TZNAME:EDT
DTSTART:20250309T070000
END:DAYLIGHT
BEGIN:STANDARD
TZOFFSETFROM:-0400
TZOFFSETTO:-0500
TZNAME:EST
DTSTART:20251102T060000
END:STANDARD
BEGIN:DAYLIGHT
TZOFFSETFROM:-0500
TZOFFSETTO:-0400
TZNAME:EDT
DTSTART:20260308T070000
END:DAYLIGHT
BEGIN:STANDARD
TZOFFSETFROM:-0400
TZOFFSETTO:-0500
TZNAME:EST
DTSTART:20261101T060000
END:STANDARD
BEGIN:DAYLIGHT
TZOFFSETFROM:-0500
TZOFFSETTO:-0400
TZNAME:EDT
DTSTART:20270314T070000
END:DAYLIGHT
BEGIN:STANDARD
TZOFFSETFROM:-0400
TZOFFSETTO:-0500
TZNAME:EST
DTSTART:20271107T060000
END:STANDARD
END:VTIMEZONE
BEGIN:VEVENT
DTSTART;TZID=America/New_York:20260423T130000
DTEND;TZID=America/New_York:20260423T140000
DTSTAMP:20260424T062114
CREATED:20260316T201854Z
LAST-MODIFIED:20260316T201949Z
UID:548-1776949200-1776952800@www.aahava.com
SUMMARY:DIT  |  Partners & Vendors: TBEX Prep
DESCRIPTION:African American American Heritage Association of Virginia \nPartner activation — DMO alignment\, vendor readiness.\nMeeting link: https://us02web.zoom.us/j/89824595306?pwd=ijpTaRS78ZdLNygSg4q4QWgNMFQJ7m.1
URL:https://www.aahava.com/event/dit-partners-vendors-tbex-prep/
LOCATION:Online\, Virginia\, United States
CATEGORIES:Network Meetings
ATTACH;FMTTYPE=image/jpeg:https://www.aahava.com/wp-content/uploads/2025/10/consensus-network.jpg
ORGANIZER;CN="African American Heritage Association of Virginia":MAILTO:info@aahava.com
END:VEVENT
BEGIN:VEVENT
DTSTART;TZID=America/New_York:20260416T130000
DTEND;TZID=America/New_York:20260416T140000
DTSTAMP:20260424T062114
CREATED:20260313T195622Z
LAST-MODIFIED:20260313T195806Z
UID:533-1776344400-1776348000@www.aahava.com
SUMMARY:DIY  |  Community Convening: Consensus Building
DESCRIPTION:African American American Heritage Association of Virginia \nAAHTN Program — community voice in network priorities.\nMeeting link: https://us02web.zoom.us/j/89824595306?pwd=ijpTaRS78ZdLNygSg4q4QWgNMFQJ7m.1
URL:https://www.aahava.com/event/diy-community-convening-consensus-building/
LOCATION:Online\, Virginia\, United States
CATEGORIES:Network Meetings
ATTACH;FMTTYPE=image/jpeg:https://www.aahava.com/wp-content/uploads/2025/10/consensus-network.jpg
ORGANIZER;CN="African American Heritage Association of Virginia":MAILTO:info@aahava.com
END:VEVENT
BEGIN:VEVENT
DTSTART;TZID=America/New_York:20260326T130000
DTEND;TZID=America/New_York:20260326T140000
DTSTAMP:20260424T062114
CREATED:20260313T194818Z
LAST-MODIFIED:20260313T195915Z
UID:531-1774530000-1774533600@www.aahava.com
SUMMARY:DIT  |  Partners & Vendors: Symposium Preview
DESCRIPTION:African American American Heritage Association of Virginia \nPartner & vendor roles at State of Cultural Heritage Symposium\nMeeting link: https://us02web.zoom.us/j/89824595306?pwd=ijpTaRS78ZdLNygSg4q4QWgNMFQJ7m.1
URL:https://www.aahava.com/event/dit-partners-vendors-symposium-preview/
LOCATION:Online\, Virginia\, United States
CATEGORIES:Network Meetings
ATTACH;FMTTYPE=image/jpeg:https://www.aahava.com/wp-content/uploads/2025/10/consensus-network.jpg
ORGANIZER;CN="African American Heritage Association of Virginia":MAILTO:info@aahava.com
END:VEVENT
BEGIN:VEVENT
DTSTART;TZID=America/New_York:20260319T130000
DTEND;TZID=America/New_York:20260319T140000
DTSTAMP:20260424T062114
CREATED:20260313T194426Z
LAST-MODIFIED:20260313T200845Z
UID:528-1773925200-1773928800@www.aahava.com
SUMMARY:DIY  |  Community Convening: Symposium Preview
DESCRIPTION:African American American Heritage Association of Virginia \nAAHTN Overview — Network structure\, site categories\, activation model\, etc.\nMeeting link: https://us02web.zoom.us/j/89824595306?pwd=ijpTaRS78ZdLNygSg4q4QWgNMFQJ7m.1
URL:https://www.aahava.com/event/diy-community-convening-symposium-preview/
LOCATION:Online\, Virginia\, United States
CATEGORIES:Network Meetings
ATTACH;FMTTYPE=image/jpeg:https://www.aahava.com/wp-content/uploads/2025/10/consensus-network.jpg
ORGANIZER;CN="African American Heritage Association of Virginia":MAILTO:info@aahava.com
END:VEVENT
BEGIN:VEVENT
DTSTART;TZID=America/New_York:20260129T130000
DTEND;TZID=America/New_York:20260129T140000
DTSTAMP:20260424T062114
CREATED:20251014T071202Z
LAST-MODIFIED:20251208T150254Z
UID:80-1769691600-1769695200@www.aahava.com
SUMMARY:Consensus Network
DESCRIPTION:Join us for our inaugural Consensus Network meeting. These monthly forums bring together tourism professionals\, corporate sponsors\, educational institutions\, and community stakeholders alike.  \nZoom Link for Attendance – Open to all\, but we kindly request all attendees RSVP so we can account for any accommodations\, etc.  \n 
URL:https://www.aahava.com/event/consensus-network/
LOCATION:Richmond\, Virginia\, Richmond\, Virginia\, United States
CATEGORIES:Network Meetings
ATTACH;FMTTYPE=image/jpeg:https://www.aahava.com/wp-content/uploads/2025/10/consensus-network.jpg
ORGANIZER;CN="African American Heritage Association of Virginia":MAILTO:info@aahava.com
END:VEVENT
END:VCALENDAR